BEGIN:VCALENDAR
PRODID:-//Mozilla.org/NONSGML Mozilla Calendar V1.1//EN
VERSION:2.0
BEGIN:VEVENT
UID:69e8a84473e94
DTSTAMP:20260422T105148Z
DTSTART:20261118T100000Z
DTEND:20261119T100000Z
SUMMARY:Demo calendar event for Lookatmedia™ centre
DESCRIPTION:Demo calendar event for Lookatmedia™ centre 'save the date' feature
END:VEVENT
END:VCALENDAR